BEGIN:VCALENDAR
VERSION:2.0
PRODID:-//TiF Press - ECPv6.15.20//NONSGML v1.0//EN
CALSCALE:GREGORIAN
METHOD:PUBLISH
X-WR-CALNAME:TiF Press
X-ORIGINAL-URL:https://tifpress.com
X-WR-CALDESC:Events for TiF Press
REFRESH-INTERVAL;VALUE=DURATION:PT1H
X-Robots-Tag:noindex
X-PUBLISHED-TTL:PT1H
BEGIN:VTIMEZONE
TZID:America/New_York
BEGIN:DAYLIGHT
TZOFFSETFROM:-0500
TZOFFSETTO:-0400
TZNAME:EDT
DTSTART:20240310T070000
END:DAYLIGHT
BEGIN:STANDARD
TZOFFSETFROM:-0400
TZOFFSETTO:-0500
TZNAME:EST
DTSTART:20241103T060000
END:STANDARD
BEGIN:DAYLIGHT
TZOFFSETFROM:-0500
TZOFFSETTO:-0400
TZNAME:EDT
DTSTART:20250309T070000
END:DAYLIGHT
BEGIN:STANDARD
TZOFFSETFROM:-0400
TZOFFSETTO:-0500
TZNAME:EST
DTSTART:20251102T060000
END:STANDARD
BEGIN:DAYLIGHT
TZOFFSETFROM:-0500
TZOFFSETTO:-0400
TZNAME:EDT
DTSTART:20260308T070000
END:DAYLIGHT
BEGIN:STANDARD
TZOFFSETFROM:-0400
TZOFFSETTO:-0500
TZNAME:EST
DTSTART:20261101T060000
END:STANDARD
END:VTIMEZONE
BEGIN:VEVENT
DTSTART;TZID=America/New_York:20251017T120000
DTEND;TZID=America/New_York:20251017T120000
DTSTAMP:20260423T190859
CREATED:20251013T173432Z
LAST-MODIFIED:20251013T173434Z
UID:158001772-1760702400-1760702400@tifpress.com
SUMMARY:Midnight is Coming
DESCRIPTION:TBD
URL:https://tifpress.com/event/midnight-is-coming/
END:VEVENT
BEGIN:VEVENT
DTSTART;TZID=America/New_York:20251015T000000
DTEND;TZID=America/New_York:20251015T235959
DTSTAMP:20260423T190859
CREATED:20250703T133913Z
LAST-MODIFIED:20250716T201834Z
UID:352-1760486400-1760572799@tifpress.com
SUMMARY:Inanimate Objects - Submissions Closed!
DESCRIPTION:This is the final day to submit your story either for entry to the contest or just as a participant in the event happening on Halloween Day (October 31st)!
URL:https://tifpress.com/event/a-house-of-horrors-submissions-closed/
END:VEVENT
BEGIN:VEVENT
DTSTART;TZID=America/New_York:20251001T000000
DTEND;TZID=America/New_York:20251001T235959
DTSTAMP:20260423T190859
CREATED:20250703T154044Z
LAST-MODIFIED:20250703T154119Z
UID:363-1759276800-1759363199@tifpress.com
SUMMARY:Monthly Recap #9
DESCRIPTION:Recap stories from the previous month (August 30 – September 26) + any important news to share for the upcoming months.
URL:https://tifpress.com/event/monthly-recap-9/
END:VEVENT
BEGIN:VEVENT
DTSTART;TZID=America/New_York:20250915T000000
DTEND;TZID=America/New_York:20251015T235959
DTSTAMP:20260423T190859
CREATED:20250703T020223Z
LAST-MODIFIED:20250716T201716Z
UID:326-1757894400-1760572799@tifpress.com
SUMMARY:Inanimate Objects - Submissions Open!
DESCRIPTION:The Submissions Window for this event/contest officially opens on September 15th and closes on October 15th.
URL:https://tifpress.com/event/a-house-of-horrors/
END:VEVENT
BEGIN:VEVENT
DTSTART;TZID=America/New_York:20250903T000000
DTEND;TZID=America/New_York:20250903T235959
DTSTAMP:20260423T190859
CREATED:20250703T153931Z
LAST-MODIFIED:20250703T153935Z
UID:361-1756857600-1756943999@tifpress.com
SUMMARY:Monthly Recap #8
DESCRIPTION:Recap stories from the previous month (July 26 – August 29) + any important news to share for the upcoming months.
URL:https://tifpress.com/event/monthly-recap-8/
END:VEVENT
BEGIN:VEVENT
DTSTART;TZID=America/New_York:20250808T140000
DTEND;TZID=America/New_York:20250808T153000
DTSTAMP:20260423T190859
CREATED:20250703T022333Z
LAST-MODIFIED:20250721T145314Z
UID:340-1754661600-1754667000@tifpress.com
SUMMARY:TiF On Serials
DESCRIPTION:S.E. Reid\, Hanna Delaney\, and Bridget Riley discuss their respective serialized fiction\, how they keep up with the grinding schedule\, and their journey to ultimately publish their own work.
URL:https://tifpress.com/event/tif-on-serials/
END:VEVENT
BEGIN:VEVENT
DTSTART;TZID=America/New_York:20250806T110000
DTEND;TZID=America/New_York:20250806T120000
DTSTAMP:20260423T190859
CREATED:20250703T022027Z
LAST-MODIFIED:20250703T153809Z
UID:338-1754478000-1754481600@tifpress.com
SUMMARY:Monthly Recap #7
DESCRIPTION:Recap stories from the previous month (June 28 – July 25) + any important news to share for the upcoming months.
URL:https://tifpress.com/event/monthly-recap-7/
END:VEVENT
BEGIN:VEVENT
DTSTART;TZID=America/New_York:20250702T103000
DTEND;TZID=America/New_York:20250702T120000
DTSTAMP:20260423T190859
CREATED:20250703T023411Z
LAST-MODIFIED:20250703T023747Z
UID:344-1751452200-1751457600@tifpress.com
SUMMARY:Monthly Recap #6 + SoTU
DESCRIPTION:The very first TiF State of the Union to mark the 1 year anniversary since Top in Fiction started back in July 2024.
URL:https://tifpress.com/event/monthly-recap-6-sotu/
END:VEVENT
END:VCALENDAR