BEGIN:VCALENDAR
VERSION:2.0
PRODID:-//TiF Press - ECPv6.15.20//NONSGML v1.0//EN
CALSCALE:GREGORIAN
METHOD:PUBLISH
X-WR-CALNAME:TiF Press
X-ORIGINAL-URL:https://tifpress.com
X-WR-CALDESC:Events for TiF Press
REFRESH-INTERVAL;VALUE=DURATION:PT1H
X-Robots-Tag:noindex
X-PUBLISHED-TTL:PT1H
BEGIN:VTIMEZONE
TZID:America/New_York
BEGIN:DAYLIGHT
TZOFFSETFROM:-0500
TZOFFSETTO:-0400
TZNAME:EDT
DTSTART:20240310T070000
END:DAYLIGHT
BEGIN:STANDARD
TZOFFSETFROM:-0400
TZOFFSETTO:-0500
TZNAME:EST
DTSTART:20241103T060000
END:STANDARD
BEGIN:DAYLIGHT
TZOFFSETFROM:-0500
TZOFFSETTO:-0400
TZNAME:EDT
DTSTART:20250309T070000
END:DAYLIGHT
BEGIN:STANDARD
TZOFFSETFROM:-0400
TZOFFSETTO:-0500
TZNAME:EST
DTSTART:20251102T060000
END:STANDARD
BEGIN:DAYLIGHT
TZOFFSETFROM:-0500
TZOFFSETTO:-0400
TZNAME:EDT
DTSTART:20260308T070000
END:DAYLIGHT
BEGIN:STANDARD
TZOFFSETFROM:-0400
TZOFFSETTO:-0500
TZNAME:EST
DTSTART:20261101T060000
END:STANDARD
BEGIN:DAYLIGHT
TZOFFSETFROM:-0500
TZOFFSETTO:-0400
TZNAME:EDT
DTSTART:20270314T070000
END:DAYLIGHT
BEGIN:STANDARD
TZOFFSETFROM:-0400
TZOFFSETTO:-0500
TZNAME:EST
DTSTART:20271107T060000
END:STANDARD
END:VTIMEZONE
BEGIN:VEVENT
DTSTART;TZID=America/New_York:20251203T150000
DTEND;TZID=America/New_York:20251203T160000
DTSTAMP:20260423T190601
CREATED:20250703T154341Z
LAST-MODIFIED:20251202T124500Z
UID:368-1764774000-1764777600@tifpress.com
SUMMARY:Monthly Recap #11
DESCRIPTION:Special Guests: The Midnight Vault Team! J. Curtis / Shane Bzdok / Bryan Pirolli \n\n\n\nRecap stories from the previous month (November 1 – November 28) + any important news to share for the upcoming months.
URL:https://tifpress.com/event/monthly-recap-11/
END:VEVENT
BEGIN:VEVENT
DTSTART;TZID=America/New_York:20251208T150000
DTEND;TZID=America/New_York:20251208T160000
DTSTAMP:20260423T190601
CREATED:20251202T174606Z
LAST-MODIFIED:20251202T174608Z
UID:158001921-1765206000-1765209600@tifpress.com
SUMMARY:Eye See You Cover Reveal Day!
DESCRIPTION:Join me as I unveil the cover for the first TiF Press Anthology: Eye See You! And I’ll be joined by the cover artist as well. We’ll discuss how the cover came together and much more!
URL:https://tifpress.com/event/eye-see-you-cover-reveal-day/
END:VEVENT
BEGIN:VEVENT
DTSTART;TZID=America/New_York:20251222T100000
DTEND;TZID=America/New_York:20251222T110000
DTSTAMP:20260423T190601
CREATED:20250703T153352Z
LAST-MODIFIED:20251202T124840Z
UID:358-1766397600-1766401200@tifpress.com
SUMMARY:A TiF Secret Santa Delivery Day
DESCRIPTION:The big day is here. We’ve had many amazing writers volunteering their December holiday month to write a story using the plot line given to them by a total stranger\, chosen at random. An idea borrowed from the incomparable Ben Wakeman and his Walk in My Shoes community driven project\, this one\, I hope\, strikes a similar tone.  \n\n\n\nAll of the stories will be shared and found directly on Top in Fiction. The writer of the story as well as who the story is being gifted to (ie the originator of the plot line) will have a By Line credit with the option of cross-posting the story on their own newsletter (ie Substack) immediately following the event. \n\n\n\nA LIVE Event will be taking place where every story title\, original writer\, and plot line creator will be announced at the same time as each story is being shared in your inboxes. It will be an email story bomb unlike anything you’ve ever experienced!
URL:https://tifpress.com/event/a-tif-secret-santa-delivery-day/
ATTACH;FMTTYPE=image/png:https://tifpress.com/wp-content/uploads/2025/11/Secret-Santa-2025-Images-1-Web-Page.png
END:VEVENT
BEGIN:VEVENT
DTSTART;TZID=America/New_York:20260107T000000
DTEND;TZID=America/New_York:20260107T235959
DTSTAMP:20260423T190601
CREATED:20250703T154533Z
LAST-MODIFIED:20250703T154536Z
UID:370-1767744000-1767830399@tifpress.com
SUMMARY:Monthly Recap #12
DESCRIPTION:Recap stories from the previous month (November 29 – December 26) + any important news to share for the upcoming months.
URL:https://tifpress.com/event/monthly-recap-12/
END:VEVENT
BEGIN:VEVENT
DTSTART;TZID=America/New_York:20260115T103000
DTEND;TZID=America/New_York:20260115T120000
DTSTAMP:20260423T190601
CREATED:20250703T023202Z
LAST-MODIFIED:20251202T125808Z
UID:342-1768473000-1768478400@tifpress.com
SUMMARY:TiF Annual Recap of 2025
DESCRIPTION:An annual address given by Erica L. Drayton to discuss how the year went. A great way to close out one year and start fresh on a new one. Also\, one last look at the TiF Summit 2026 Schedule!
URL:https://tifpress.com/event/tif-annual-recap-2025-sotu/
END:VEVENT
BEGIN:VEVENT
DTSTART;TZID=America/New_York:20260116T000000
DTEND;TZID=America/New_York:20260118T235959
DTSTAMP:20260423T190601
CREATED:20250703T160525Z
LAST-MODIFIED:20250703T160529Z
UID:372-1768521600-1768780799@tifpress.com
SUMMARY:TiF Summit 2026
DESCRIPTION:A day unlike any other. The very first Top in Fiction Summit that will feature more than just panels and workshops. This event will feature heavily\, as many writers as we can get reading their fiction to you throughout the day and night! The schedule will be announced some time in December 2025. Stay tuned but be sure to mark your calendars!
URL:https://tifpress.com/event/tif-summit-2026/
END:VEVENT
BEGIN:VEVENT
DTSTART;TZID=America/New_York:20260118T160000
DTEND;TZID=America/New_York:20260118T170000
DTSTAMP:20260423T190601
CREATED:20251202T125650Z
LAST-MODIFIED:20251202T125651Z
UID:158001909-1768752000-1768755600@tifpress.com
SUMMARY:A TiF State of the Union
DESCRIPTION:What does Top in Fiction and TiF Press have planned for 2026? There’s only one way to find out! Join me Live where I plan on revealing some of the events and anthology releases happening throughout the year that you can look forward to or participate in\, or both! Bring a friend!
URL:https://tifpress.com/event/a-tif-state-of-the-union/
END:VEVENT
BEGIN:VEVENT
DTSTART;TZID=America/New_York:20260413T143000
DTEND;TZID=America/New_York:20260413T160000
DTSTAMP:20260423T190601
CREATED:20260305T140215Z
LAST-MODIFIED:20260305T140216Z
UID:158002089-1776090600-1776096000@tifpress.com
SUMMARY:A TiF Monthly Meet-Up [April]
DESCRIPTION:This has been a long time coming and the moment is finally here. This was started long time ago by the amazing Fictionistas community and I know there are many who miss it. Here’s your chance to get to know members of the community from all over the world and all walks of life as we discuss fiction writing topics and hopefully on a monthly basis. This one’s for the writers!
URL:https://tifpress.com/event/a-tif-monthly-meet-up-april/
END:VEVENT
BEGIN:VEVENT
DTSTART;TZID=America/New_York:20260428T080000
DTEND;TZID=America/New_York:20260428T170000
DTSTAMP:20260423T190601
CREATED:20251124T131709Z
LAST-MODIFIED:20260305T133524Z
UID:158001882-1777363200-1777395600@tifpress.com
SUMMARY:Eye See You Release Party
DESCRIPTION:The moment we’ve all been waiting for! The very first TiF Press Anthology will officially be out in the world. It will be available for purchase in both Paperback and eBook! If you haven’t pre-ordered it\, nows your chance to get your hands on this copy\, featuring 20 amazing fiction authors who just love to write horror!
URL:https://tifpress.com/event/eye-see-you-release/
END:VEVENT
BEGIN:VEVENT
DTSTART;TZID=America/New_York:20260615T000000
DTEND;TZID=America/New_York:20260815T235959
DTSTAMP:20260423T190601
CREATED:20260305T134151Z
LAST-MODIFIED:20260305T134152Z
UID:158002079-1781481600-1786838399@tifpress.com
SUMMARY:TiF Summit 2027 Sign-Up
DESCRIPTION:Are you a member of the fiction community here on Substack? Then join us and other fellow writers for our 2nd annual summit. We’ve got plans to make this summit bigger and better than ever! Check your email for information on how to sign-up!
URL:https://tifpress.com/event/tif-summit-2027-sign-up/
END:VEVENT
BEGIN:VEVENT
DTSTART;TZID=America/New_York:20260915T000000
DTEND;TZID=America/New_York:20260925T235959
DTSTAMP:20260423T190601
CREATED:20260417T135914Z
LAST-MODIFIED:20260417T140152Z
UID:158002147-1789430400-1790380799@tifpress.com
SUMMARY:The "11" Event Begins
DESCRIPTION:A 11 Year Anniversary Mystery – Wanna know what this is all about? More will be revealed on September 1st!
URL:https://tifpress.com/event/the-11-event-begins/
END:VEVENT
BEGIN:VEVENT
DTSTART;TZID=America/New_York:20260928T000000
DTEND;TZID=America/New_York:20261028T235959
DTSTAMP:20260423T190601
CREATED:20260305T134608Z
LAST-MODIFIED:20260417T135441Z
UID:158002081-1790553600-1793231999@tifpress.com
SUMMARY:A Haunted Event
DESCRIPTION:This event is open to anyone willing to take up the challenge to write a brand new story in 30 days and have it ready for our Halloween Eve event day on October 30th. Check your email for sign-up information as well as letting us know if you’d like an opportunity to be invited to be in our THIRD anthology published by TiF Press.
URL:https://tifpress.com/event/haunted-event/
END:VEVENT
BEGIN:VEVENT
DTSTART;TZID=America/New_York:20261001T000000
DTEND;TZID=America/New_York:20261031T235959
DTSTAMP:20260423T190601
CREATED:20260305T134833Z
LAST-MODIFIED:20260305T134834Z
UID:158002083-1790812800-1793491199@tifpress.com
SUMMARY:Pentober 2026
DESCRIPTION:Just 31 days to stretch your storytelling\, and handwriting\, skills using the Top in Fiction prompts! Make sure you’re subscribed and join fellow writers in our Substack Chat and on our Discord Server where we’ll be sharing pics of what we’ve been writing all month long!
URL:https://tifpress.com/event/pentober-2026/
END:VEVENT
BEGIN:VEVENT
DTSTART;TZID=America/New_York:20261101T000000
DTEND;TZID=America/New_York:20261130T235900
DTSTAMP:20260423T190601
CREATED:20260305T140600Z
LAST-MODIFIED:20260417T135612Z
UID:158002091-1793491200-1796083140@tifpress.com
SUMMARY:Annual Recap of 2026 Submissions
DESCRIPTION:This is your opportunity to share what you consider to be your very best work from 2026. Only criteria is that you’ve been featured at least ONCE in a Weekly or Monthly Recap issue and that your story selection was shared on your Substack in 2026 (it can be behind a paywall though it will be marked as such when included in the annual recap PDF). You have just 30 days to submit your best work!
URL:https://tifpress.com/event/annual-recap-of-2026-submissions/
END:VEVENT
BEGIN:VEVENT
DTSTART;TZID=America/New_York:20261109T000000
DTEND;TZID=America/New_York:20261113T235959
DTSTAMP:20260423T190601
CREATED:20260305T135207Z
LAST-MODIFIED:20260305T135208Z
UID:158002085-1794182400-1794614399@tifpress.com
SUMMARY:A TiF Secret Santa Plot Swap 2.0 - Participants Week
DESCRIPTION:Last year we had quite a turn out. This year we’re daring those who may have been on the fence about participating to take up the challenge! Or\, don’t you think you can write a story using someone else’s plot in 4 weeks? Check your email for sign-up information. But be quick! There’s only 5 days to sign up!
URL:https://tifpress.com/event/a-tif-secret-santa-plot-swap-2-0-participants-week/
END:VEVENT
BEGIN:VEVENT
DTSTART;TZID=America/New_York:20261222T000000
DTEND;TZID=America/New_York:20261222T235959
DTSTAMP:20260423T190601
CREATED:20260305T135442Z
LAST-MODIFIED:20260305T135443Z
UID:158002087-1797897600-1797983999@tifpress.com
SUMMARY:Secret Santa Plot Swap 2.0 - Celebration Day!
DESCRIPTION:Today is the day we’ve all been waiting for. When all the writers and the plots are revealed during a Substack Live event! Let’s have a lovely Christmas Celebration together to kick off the Holiday Season! I can think of no better way than with a healthy batch of stories and some hot cocoa.
URL:https://tifpress.com/event/secret-santa-plot-swap-2-0-celebration-day/
END:VEVENT
END:VCALENDAR