BEGIN:VCALENDAR
VERSION:2.0
PRODID:-//TiF Press - ECPv6.15.20//NONSGML v1.0//EN
CALSCALE:GREGORIAN
METHOD:PUBLISH
X-WR-CALNAME:TiF Press
X-ORIGINAL-URL:https://tifpress.com
X-WR-CALDESC:Events for TiF Press
REFRESH-INTERVAL;VALUE=DURATION:PT1H
X-Robots-Tag:noindex
X-PUBLISHED-TTL:PT1H
BEGIN:VTIMEZONE
TZID:America/New_York
BEGIN:DAYLIGHT
TZOFFSETFROM:-0500
TZOFFSETTO:-0400
TZNAME:EDT
DTSTART:20250309T070000
END:DAYLIGHT
BEGIN:STANDARD
TZOFFSETFROM:-0400
TZOFFSETTO:-0500
TZNAME:EST
DTSTART:20251102T060000
END:STANDARD
BEGIN:DAYLIGHT
TZOFFSETFROM:-0500
TZOFFSETTO:-0400
TZNAME:EDT
DTSTART:20260308T070000
END:DAYLIGHT
BEGIN:STANDARD
TZOFFSETFROM:-0400
TZOFFSETTO:-0500
TZNAME:EST
DTSTART:20261101T060000
END:STANDARD
BEGIN:DAYLIGHT
TZOFFSETFROM:-0500
TZOFFSETTO:-0400
TZNAME:EDT
DTSTART:20270314T070000
END:DAYLIGHT
BEGIN:STANDARD
TZOFFSETFROM:-0400
TZOFFSETTO:-0500
TZNAME:EST
DTSTART:20271107T060000
END:STANDARD
END:VTIMEZONE
BEGIN:VEVENT
DTSTART;TZID=America/New_York:20260115T103000
DTEND;TZID=America/New_York:20260115T120000
DTSTAMP:20260423T172521
CREATED:20250703T023202Z
LAST-MODIFIED:20251202T125808Z
UID:342-1768473000-1768478400@tifpress.com
SUMMARY:TiF Annual Recap of 2025
DESCRIPTION:An annual address given by Erica L. Drayton to discuss how the year went. A great way to close out one year and start fresh on a new one. Also\, one last look at the TiF Summit 2026 Schedule!
URL:https://tifpress.com/event/tif-annual-recap-2025-sotu/
END:VEVENT
END:VCALENDAR