BEGIN:VCALENDAR
VERSION:2.0
PRODID:-//TiF Press - ECPv6.15.20//NONSGML v1.0//EN
CALSCALE:GREGORIAN
METHOD:PUBLISH
X-ORIGINAL-URL:https://tifpress.com
X-WR-CALDESC:Events for TiF Press
REFRESH-INTERVAL;VALUE=DURATION:PT1H
X-Robots-Tag:noindex
X-PUBLISHED-TTL:PT1H
BEGIN:VTIMEZONE
TZID:America/New_York
BEGIN:DAYLIGHT
TZOFFSETFROM:-0500
TZOFFSETTO:-0400
TZNAME:EDT
DTSTART:20240310T070000
END:DAYLIGHT
BEGIN:STANDARD
TZOFFSETFROM:-0400
TZOFFSETTO:-0500
TZNAME:EST
DTSTART:20241103T060000
END:STANDARD
BEGIN:DAYLIGHT
TZOFFSETFROM:-0500
TZOFFSETTO:-0400
TZNAME:EDT
DTSTART:20250309T070000
END:DAYLIGHT
BEGIN:STANDARD
TZOFFSETFROM:-0400
TZOFFSETTO:-0500
TZNAME:EST
DTSTART:20251102T060000
END:STANDARD
BEGIN:DAYLIGHT
TZOFFSETFROM:-0500
TZOFFSETTO:-0400
TZNAME:EDT
DTSTART:20260308T070000
END:DAYLIGHT
BEGIN:STANDARD
TZOFFSETFROM:-0400
TZOFFSETTO:-0500
TZNAME:EST
DTSTART:20261101T060000
END:STANDARD
END:VTIMEZONE
BEGIN:VEVENT
DTSTART;TZID=America/New_York:20251208T150000
DTEND;TZID=America/New_York:20251208T160000
DTSTAMP:20260423T172721
CREATED:20251202T174606Z
LAST-MODIFIED:20251202T174608Z
UID:158001921-1765206000-1765209600@tifpress.com
SUMMARY:Eye See You Cover Reveal Day!
DESCRIPTION:Join me as I unveil the cover for the first TiF Press Anthology: Eye See You! And I’ll be joined by the cover artist as well. We’ll discuss how the cover came together and much more!
URL:https://tifpress.com/event/eye-see-you-cover-reveal-day/
END:VEVENT
END:VCALENDAR