BEGIN:VCALENDAR
VERSION:2.0
PRODID:-//TiF Press - ECPv6.15.20//NONSGML v1.0//EN
CALSCALE:GREGORIAN
METHOD:PUBLISH
X-WR-CALNAME:TiF Press
X-ORIGINAL-URL:https://tifpress.com
X-WR-CALDESC:Events for TiF Press
REFRESH-INTERVAL;VALUE=DURATION:PT1H
X-Robots-Tag:noindex
X-PUBLISHED-TTL:PT1H
BEGIN:VTIMEZONE
TZID:America/New_York
BEGIN:DAYLIGHT
TZOFFSETFROM:-0500
TZOFFSETTO:-0400
TZNAME:EDT
DTSTART:20240310T070000
END:DAYLIGHT
BEGIN:STANDARD
TZOFFSETFROM:-0400
TZOFFSETTO:-0500
TZNAME:EST
DTSTART:20241103T060000
END:STANDARD
BEGIN:DAYLIGHT
TZOFFSETFROM:-0500
TZOFFSETTO:-0400
TZNAME:EDT
DTSTART:20250309T070000
END:DAYLIGHT
BEGIN:STANDARD
TZOFFSETFROM:-0400
TZOFFSETTO:-0500
TZNAME:EST
DTSTART:20251102T060000
END:STANDARD
BEGIN:DAYLIGHT
TZOFFSETFROM:-0500
TZOFFSETTO:-0400
TZNAME:EDT
DTSTART:20260308T070000
END:DAYLIGHT
BEGIN:STANDARD
TZOFFSETFROM:-0400
TZOFFSETTO:-0500
TZNAME:EST
DTSTART:20261101T060000
END:STANDARD
END:VTIMEZONE
BEGIN:VEVENT
DTSTART;TZID=America/New_York:20251124T000000
DTEND;TZID=America/New_York:20251124T235959
DTSTAMP:20260423T190303
CREATED:20250703T150659Z
LAST-MODIFIED:20251104T191240Z
UID:354-1763942400-1764028799@tifpress.com
SUMMARY:A TiF Day of Thanks
DESCRIPTION:This will be an opportunity for the fiction community to come together and give at least one Thank You to someone else whose work inspired\, motivated\, or just brought them joy in 2025. This Thanks can be given in the form of a written Recommendation\, a Note\, or even just a comment on the story that brought joy. Let someone you know and have followed and read throughout the year (or even in passing) know that they are seen even if it’s just for one day. \n\n\n\nOn this day I will go LIVE at 3pm EST to share some of the Thanks that I’ve witnessed happening throughout the day\, and I hope you will join me to share in the Chat any thanks you’ve given/received to share as well. I hope to see you there!
URL:https://tifpress.com/event/a-tif-day-of-thanks/
END:VEVENT
END:VCALENDAR