BEGIN:VCALENDAR
VERSION:2.0
PRODID:-//TiF Press - ECPv6.15.20//NONSGML v1.0//EN
CALSCALE:GREGORIAN
METHOD:PUBLISH
X-ORIGINAL-URL:https://tifpress.com
X-WR-CALDESC:Events for TiF Press
REFRESH-INTERVAL;VALUE=DURATION:PT1H
X-Robots-Tag:noindex
X-PUBLISHED-TTL:PT1H
BEGIN:VTIMEZONE
TZID:America/New_York
BEGIN:DAYLIGHT
TZOFFSETFROM:-0500
TZOFFSETTO:-0400
TZNAME:EDT
DTSTART:20240310T070000
END:DAYLIGHT
BEGIN:STANDARD
TZOFFSETFROM:-0400
TZOFFSETTO:-0500
TZNAME:EST
DTSTART:20241103T060000
END:STANDARD
BEGIN:DAYLIGHT
TZOFFSETFROM:-0500
TZOFFSETTO:-0400
TZNAME:EDT
DTSTART:20250309T070000
END:DAYLIGHT
BEGIN:STANDARD
TZOFFSETFROM:-0400
TZOFFSETTO:-0500
TZNAME:EST
DTSTART:20251102T060000
END:STANDARD
BEGIN:DAYLIGHT
TZOFFSETFROM:-0500
TZOFFSETTO:-0400
TZNAME:EDT
DTSTART:20260308T070000
END:DAYLIGHT
BEGIN:STANDARD
TZOFFSETFROM:-0400
TZOFFSETTO:-0500
TZNAME:EST
DTSTART:20261101T060000
END:STANDARD
END:VTIMEZONE
BEGIN:VEVENT
DTSTART;TZID=America/New_York:20251117T080000
DTEND;TZID=America/New_York:20251121T170000
DTSTAMP:20260423T190440
CREATED:20250915T140925Z
LAST-MODIFIED:20250915T140928Z
UID:158001568-1763366400-1763744400@tifpress.com
SUMMARY:A TiF Day of Thanks - Participants Week
DESCRIPTION:Have you read a story that truly made you feel something? Maybe it scared the crap out of you or made you cry or made you think about your life for a while. We’ve all had that moment in the past year where we read something that moved us in unexpected ways. Well\, this is your week to tell me who wrote it and what that story was.  \n\n\n\nOr maybe it’s someone in the fiction community who is just really awesome because they helped you out by reading your work and giving you their thoughts before you went public with it. Or they write a great comment that made your day. Or they shouted your work out unexpectedly and it helped you grow your reach.  \n\n\n\nHere’s your chance to GIVE THANKS to whoever that person is. And don’t worry\, you can be ANONYMOUS if you want. Check your inbox for an official announcement on 11/21 when the form to submit your THANKS will be open. \n\n\n\nThere will be a LIVE Stream on Tuesday\, November 25th where I will read out all of the thankful messages for you\, as well as the stories that changed you and who wrote them\, in 2025.
URL:https://tifpress.com/event/a-tif-day-of-thanks-participants-week/
END:VEVENT
END:VCALENDAR