BEGIN:VCALENDAR
VERSION:2.0
PRODID:-//TiF Press - ECPv6.15.20//NONSGML v1.0//EN
CALSCALE:GREGORIAN
METHOD:PUBLISH
X-ORIGINAL-URL:https://tifpress.com
X-WR-CALDESC:Events for TiF Press
REFRESH-INTERVAL;VALUE=DURATION:PT1H
X-Robots-Tag:noindex
X-PUBLISHED-TTL:PT1H
BEGIN:VTIMEZONE
TZID:America/New_York
BEGIN:DAYLIGHT
TZOFFSETFROM:-0500
TZOFFSETTO:-0400
TZNAME:EDT
DTSTART:20240310T070000
END:DAYLIGHT
BEGIN:STANDARD
TZOFFSETFROM:-0400
TZOFFSETTO:-0500
TZNAME:EST
DTSTART:20241103T060000
END:STANDARD
BEGIN:DAYLIGHT
TZOFFSETFROM:-0500
TZOFFSETTO:-0400
TZNAME:EDT
DTSTART:20250309T070000
END:DAYLIGHT
BEGIN:STANDARD
TZOFFSETFROM:-0400
TZOFFSETTO:-0500
TZNAME:EST
DTSTART:20251102T060000
END:STANDARD
BEGIN:DAYLIGHT
TZOFFSETFROM:-0500
TZOFFSETTO:-0400
TZNAME:EDT
DTSTART:20260308T070000
END:DAYLIGHT
BEGIN:STANDARD
TZOFFSETFROM:-0400
TZOFFSETTO:-0500
TZNAME:EST
DTSTART:20261101T060000
END:STANDARD
END:VTIMEZONE
BEGIN:VEVENT
DTSTART;TZID=America/New_York:20251110T100000
DTEND;TZID=America/New_York:20251114T235900
DTSTAMP:20260423T190438
CREATED:20250703T152937Z
LAST-MODIFIED:20251108T121536Z
UID:356-1762768800-1763164740@tifpress.com
SUMMARY:A TiF Secret Santa - Participants Week!
DESCRIPTION:Top in Fiction is looking to flip the script on how Secret Santa’s can go\, FICTION STYLE! More on this idea and the process will arrive in your inbox on November 15th! Till then\, think HOLIDAY\, think FESTIVE\, and in some cases\, think MURDER! \n\n\n\nThere will just be these 5 days to state you want to participate in this event. As always\, TiF events such as these are subject to a possible Anthology released in the future where only participants are eligible to receive an invitation.
URL:https://tifpress.com/event/a-tif-secret-santa-participants-week/
END:VEVENT
END:VCALENDAR